BEGIN:VCALENDAR
VERSION:2.0
PRODID:-//Ferienregion Hessisches Kegelspiel - ECPv6.15.20//NONSGML v1.0//EN
CALSCALE:GREGORIAN
METHOD:PUBLISH
X-WR-CALNAME:Ferienregion Hessisches Kegelspiel
X-ORIGINAL-URL:https://www.hessischeskegelspiel.de
X-WR-CALDESC:Veranstaltungen für Ferienregion Hessisches Kegelspiel
REFRESH-INTERVAL;VALUE=DURATION:PT1H
X-Robots-Tag:noindex
X-PUBLISHED-TTL:PT1H
BEGIN:VTIMEZONE
TZID:Europe/Berlin
BEGIN:DAYLIGHT
TZOFFSETFROM:+0100
TZOFFSETTO:+0200
TZNAME:CEST
DTSTART:20250330T010000
END:DAYLIGHT
BEGIN:STANDARD
TZOFFSETFROM:+0200
TZOFFSETTO:+0100
TZNAME:CET
DTSTART:20251026T010000
END:STANDARD
BEGIN:DAYLIGHT
TZOFFSETFROM:+0100
TZOFFSETTO:+0200
TZNAME:CEST
DTSTART:20260329T010000
END:DAYLIGHT
BEGIN:STANDARD
TZOFFSETFROM:+0200
TZOFFSETTO:+0100
TZNAME:CET
DTSTART:20261025T010000
END:STANDARD
BEGIN:DAYLIGHT
TZOFFSETFROM:+0100
TZOFFSETTO:+0200
TZNAME:CEST
DTSTART:20270328T010000
END:DAYLIGHT
BEGIN:STANDARD
TZOFFSETFROM:+0200
TZOFFSETTO:+0100
TZNAME:CET
DTSTART:20271031T010000
END:STANDARD
END:VTIMEZONE
BEGIN:VEVENT
DTSTART;TZID=Europe/Berlin:20260626T100000
DTEND;TZID=Europe/Berlin:20260626T170000
DTSTAMP:20260424T161402
CREATED:20250728T075333Z
LAST-MODIFIED:20250728T075403Z
UID:10076258-1782468000-1782493200@www.hessischeskegelspiel.de
SUMMARY:Musikcorps Ufhausen: Festival der Musik
DESCRIPTION:
URL:https://www.hessischeskegelspiel.de/veranstaltung/musikcorps-ufhausen-festival-der-musik/2026-06-26/
LOCATION:Eiterfeld-Ufhausen\, Ufhausen\, Eiterfeld-Ufhausen\, Hessen\, 36132\, Germany
ATTACH;FMTTYPE=image/jpeg:https://www.hessischeskegelspiel.de/wp-content/uploads/2025/07/2025-06-08-Save-the-date-Flyer-final.jpg
END:VEVENT
BEGIN:VEVENT
DTSTART;TZID=Europe/Berlin:20260627T100000
DTEND;TZID=Europe/Berlin:20260627T170000
DTSTAMP:20260424T161402
CREATED:20250728T075333Z
LAST-MODIFIED:20250728T075403Z
UID:10076259-1782554400-1782579600@www.hessischeskegelspiel.de
SUMMARY:Musikcorps Ufhausen: Festival der Musik
DESCRIPTION:
URL:https://www.hessischeskegelspiel.de/veranstaltung/musikcorps-ufhausen-festival-der-musik/2026-06-27/
LOCATION:Eiterfeld-Ufhausen\, Ufhausen\, Eiterfeld-Ufhausen\, Hessen\, 36132\, Germany
ATTACH;FMTTYPE=image/jpeg:https://www.hessischeskegelspiel.de/wp-content/uploads/2025/07/2025-06-08-Save-the-date-Flyer-final.jpg
END:VEVENT
BEGIN:VEVENT
DTSTART;TZID=Europe/Berlin:20260628T100000
DTEND;TZID=Europe/Berlin:20260628T170000
DTSTAMP:20260424T161402
CREATED:20250728T075333Z
LAST-MODIFIED:20250728T075403Z
UID:10076260-1782640800-1782666000@www.hessischeskegelspiel.de
SUMMARY:Musikcorps Ufhausen: Festival der Musik
DESCRIPTION:
URL:https://www.hessischeskegelspiel.de/veranstaltung/musikcorps-ufhausen-festival-der-musik/2026-06-28/
LOCATION:Eiterfeld-Ufhausen\, Ufhausen\, Eiterfeld-Ufhausen\, Hessen\, 36132\, Germany
ATTACH;FMTTYPE=image/jpeg:https://www.hessischeskegelspiel.de/wp-content/uploads/2025/07/2025-06-08-Save-the-date-Flyer-final.jpg
END:VEVENT
BEGIN:VEVENT
DTSTART;TZID=Europe/Berlin:20260629T100000
DTEND;TZID=Europe/Berlin:20260629T170000
DTSTAMP:20260424T161402
CREATED:20250728T075333Z
LAST-MODIFIED:20250728T075403Z
UID:10076261-1782727200-1782752400@www.hessischeskegelspiel.de
SUMMARY:Musikcorps Ufhausen: Festival der Musik
DESCRIPTION:
URL:https://www.hessischeskegelspiel.de/veranstaltung/musikcorps-ufhausen-festival-der-musik/2026-06-29/
LOCATION:Eiterfeld-Ufhausen\, Ufhausen\, Eiterfeld-Ufhausen\, Hessen\, 36132\, Germany
ATTACH;FMTTYPE=image/jpeg:https://www.hessischeskegelspiel.de/wp-content/uploads/2025/07/2025-06-08-Save-the-date-Flyer-final.jpg
END:VEVENT
END:VCALENDAR