BEGIN:VCALENDAR
VERSION:2.0
PRODID:-//Ferienregion Hessisches Kegelspiel - ECPv6.15.20//NONSGML v1.0//EN
CALSCALE:GREGORIAN
METHOD:PUBLISH
X-WR-CALNAME:Ferienregion Hessisches Kegelspiel
X-ORIGINAL-URL:https://www.hessischeskegelspiel.de
X-WR-CALDESC:Veranstaltungen für Ferienregion Hessisches Kegelspiel
REFRESH-INTERVAL;VALUE=DURATION:PT1H
X-Robots-Tag:noindex
X-PUBLISHED-TTL:PT1H
BEGIN:VTIMEZONE
TZID:Europe/Berlin
BEGIN:DAYLIGHT
TZOFFSETFROM:+0100
TZOFFSETTO:+0200
TZNAME:CEST
DTSTART:20250330T010000
END:DAYLIGHT
BEGIN:STANDARD
TZOFFSETFROM:+0200
TZOFFSETTO:+0100
TZNAME:CET
DTSTART:20251026T010000
END:STANDARD
BEGIN:DAYLIGHT
TZOFFSETFROM:+0100
TZOFFSETTO:+0200
TZNAME:CEST
DTSTART:20260329T010000
END:DAYLIGHT
BEGIN:STANDARD
TZOFFSETFROM:+0200
TZOFFSETTO:+0100
TZNAME:CET
DTSTART:20261025T010000
END:STANDARD
BEGIN:DAYLIGHT
TZOFFSETFROM:+0100
TZOFFSETTO:+0200
TZNAME:CEST
DTSTART:20270328T010000
END:DAYLIGHT
BEGIN:STANDARD
TZOFFSETFROM:+0200
TZOFFSETTO:+0100
TZNAME:CET
DTSTART:20271031T010000
END:STANDARD
END:VTIMEZONE
BEGIN:VEVENT
DTSTART;TZID=Europe/Berlin:20260910T103000
DTEND;TZID=Europe/Berlin:20260910T163000
DTSTAMP:20260420T160137
CREATED:20251223T093433Z
LAST-MODIFIED:20251223T093433Z
UID:10077732-1789036200-1789057800@www.hessischeskegelspiel.de
SUMMARY:Sargenzeller Früchteteppich
DESCRIPTION:
URL:https://www.hessischeskegelspiel.de/veranstaltung/sargenzeller-fruechteteppich-5/2026-09-10/
LOCATION:Hünfeld-Sargenzell\, Alte Kirche\, Salugoweg\, Hünfeld-Sargenzell\, Hessen\, 36088\, Deutschland
ATTACH;FMTTYPE=image/jpeg:https://www.hessischeskegelspiel.de/wp-content/uploads/2025/12/IMG_1790-scaled.jpg
END:VEVENT
BEGIN:VEVENT
DTSTART;TZID=Europe/Berlin:20260917T103000
DTEND;TZID=Europe/Berlin:20260917T163000
DTSTAMP:20260420T160137
CREATED:20251223T093433Z
LAST-MODIFIED:20251223T093433Z
UID:10077733-1789641000-1789662600@www.hessischeskegelspiel.de
SUMMARY:Sargenzeller Früchteteppich
DESCRIPTION:
URL:https://www.hessischeskegelspiel.de/veranstaltung/sargenzeller-fruechteteppich-5/2026-09-17/
LOCATION:Hünfeld-Sargenzell\, Alte Kirche\, Salugoweg\, Hünfeld-Sargenzell\, Hessen\, 36088\, Deutschland
ATTACH;FMTTYPE=image/jpeg:https://www.hessischeskegelspiel.de/wp-content/uploads/2025/12/IMG_1790-scaled.jpg
END:VEVENT
BEGIN:VEVENT
DTSTART;TZID=Europe/Berlin:20260924T103000
DTEND;TZID=Europe/Berlin:20260924T163000
DTSTAMP:20260420T160137
CREATED:20251223T093433Z
LAST-MODIFIED:20251223T093433Z
UID:10077734-1790245800-1790267400@www.hessischeskegelspiel.de
SUMMARY:Sargenzeller Früchteteppich
DESCRIPTION:
URL:https://www.hessischeskegelspiel.de/veranstaltung/sargenzeller-fruechteteppich-5/2026-09-24/
LOCATION:Hünfeld-Sargenzell\, Alte Kirche\, Salugoweg\, Hünfeld-Sargenzell\, Hessen\, 36088\, Deutschland
ATTACH;FMTTYPE=image/jpeg:https://www.hessischeskegelspiel.de/wp-content/uploads/2025/12/IMG_1790-scaled.jpg
END:VEVENT
BEGIN:VEVENT
DTSTART;TZID=Europe/Berlin:20261001T103000
DTEND;TZID=Europe/Berlin:20261001T163000
DTSTAMP:20260420T160137
CREATED:20251223T093433Z
LAST-MODIFIED:20251223T093433Z
UID:10077735-1790850600-1790872200@www.hessischeskegelspiel.de
SUMMARY:Sargenzeller Früchteteppich
DESCRIPTION:
URL:https://www.hessischeskegelspiel.de/veranstaltung/sargenzeller-fruechteteppich-5/2026-10-01/
LOCATION:Hünfeld-Sargenzell\, Alte Kirche\, Salugoweg\, Hünfeld-Sargenzell\, Hessen\, 36088\, Deutschland
ATTACH;FMTTYPE=image/jpeg:https://www.hessischeskegelspiel.de/wp-content/uploads/2025/12/IMG_1790-scaled.jpg
END:VEVENT
BEGIN:VEVENT
DTSTART;TZID=Europe/Berlin:20261008T103000
DTEND;TZID=Europe/Berlin:20261008T163000
DTSTAMP:20260420T160137
CREATED:20251223T093433Z
LAST-MODIFIED:20251223T093433Z
UID:10077736-1791455400-1791477000@www.hessischeskegelspiel.de
SUMMARY:Sargenzeller Früchteteppich
DESCRIPTION:
URL:https://www.hessischeskegelspiel.de/veranstaltung/sargenzeller-fruechteteppich-5/2026-10-08/
LOCATION:Hünfeld-Sargenzell\, Alte Kirche\, Salugoweg\, Hünfeld-Sargenzell\, Hessen\, 36088\, Deutschland
ATTACH;FMTTYPE=image/jpeg:https://www.hessischeskegelspiel.de/wp-content/uploads/2025/12/IMG_1790-scaled.jpg
END:VEVENT
BEGIN:VEVENT
DTSTART;TZID=Europe/Berlin:20261015T103000
DTEND;TZID=Europe/Berlin:20261015T163000
DTSTAMP:20260420T160137
CREATED:20251223T093433Z
LAST-MODIFIED:20251223T093433Z
UID:10077737-1792060200-1792081800@www.hessischeskegelspiel.de
SUMMARY:Sargenzeller Früchteteppich
DESCRIPTION:
URL:https://www.hessischeskegelspiel.de/veranstaltung/sargenzeller-fruechteteppich-5/2026-10-15/
LOCATION:Hünfeld-Sargenzell\, Alte Kirche\, Salugoweg\, Hünfeld-Sargenzell\, Hessen\, 36088\, Deutschland
ATTACH;FMTTYPE=image/jpeg:https://www.hessischeskegelspiel.de/wp-content/uploads/2025/12/IMG_1790-scaled.jpg
END:VEVENT
BEGIN:VEVENT
DTSTART;TZID=Europe/Berlin:20261022T103000
DTEND;TZID=Europe/Berlin:20261022T163000
DTSTAMP:20260420T160137
CREATED:20251223T093433Z
LAST-MODIFIED:20251223T093433Z
UID:10077738-1792665000-1792686600@www.hessischeskegelspiel.de
SUMMARY:Sargenzeller Früchteteppich
DESCRIPTION:
URL:https://www.hessischeskegelspiel.de/veranstaltung/sargenzeller-fruechteteppich-5/2026-10-22/
LOCATION:Hünfeld-Sargenzell\, Alte Kirche\, Salugoweg\, Hünfeld-Sargenzell\, Hessen\, 36088\, Deutschland
ATTACH;FMTTYPE=image/jpeg:https://www.hessischeskegelspiel.de/wp-content/uploads/2025/12/IMG_1790-scaled.jpg
END:VEVENT
BEGIN:VEVENT
DTSTART;TZID=Europe/Berlin:20261029T103000
DTEND;TZID=Europe/Berlin:20261029T163000
DTSTAMP:20260420T160137
CREATED:20251223T093433Z
LAST-MODIFIED:20251223T093433Z
UID:10077739-1793269800-1793291400@www.hessischeskegelspiel.de
SUMMARY:Sargenzeller Früchteteppich
DESCRIPTION:
URL:https://www.hessischeskegelspiel.de/veranstaltung/sargenzeller-fruechteteppich-5/2026-10-29/
LOCATION:Hünfeld-Sargenzell\, Alte Kirche\, Salugoweg\, Hünfeld-Sargenzell\, Hessen\, 36088\, Deutschland
ATTACH;FMTTYPE=image/jpeg:https://www.hessischeskegelspiel.de/wp-content/uploads/2025/12/IMG_1790-scaled.jpg
END:VEVENT
BEGIN:VEVENT
DTSTART;TZID=Europe/Berlin:20261105T103000
DTEND;TZID=Europe/Berlin:20261105T163000
DTSTAMP:20260420T160137
CREATED:20251223T093433Z
LAST-MODIFIED:20251223T093433Z
UID:10077740-1793874600-1793896200@www.hessischeskegelspiel.de
SUMMARY:Sargenzeller Früchteteppich
DESCRIPTION:
URL:https://www.hessischeskegelspiel.de/veranstaltung/sargenzeller-fruechteteppich-5/2026-11-05/
LOCATION:Hünfeld-Sargenzell\, Alte Kirche\, Salugoweg\, Hünfeld-Sargenzell\, Hessen\, 36088\, Deutschland
ATTACH;FMTTYPE=image/jpeg:https://www.hessischeskegelspiel.de/wp-content/uploads/2025/12/IMG_1790-scaled.jpg
END:VEVENT
END:VCALENDAR