BEGIN:VCALENDAR
VERSION:2.0
PRODID:-//Ferienregion Hessisches Kegelspiel - ECPv6.15.20//NONSGML v1.0//EN
CALSCALE:GREGORIAN
METHOD:PUBLISH
X-WR-CALNAME:Ferienregion Hessisches Kegelspiel
X-ORIGINAL-URL:https://www.hessischeskegelspiel.de
X-WR-CALDESC:Veranstaltungen für Ferienregion Hessisches Kegelspiel
REFRESH-INTERVAL;VALUE=DURATION:PT1H
X-Robots-Tag:noindex
X-PUBLISHED-TTL:PT1H
BEGIN:VTIMEZONE
TZID:Europe/Berlin
BEGIN:DAYLIGHT
TZOFFSETFROM:+0100
TZOFFSETTO:+0200
TZNAME:CEST
DTSTART:20250330T010000
END:DAYLIGHT
BEGIN:STANDARD
TZOFFSETFROM:+0200
TZOFFSETTO:+0100
TZNAME:CET
DTSTART:20251026T010000
END:STANDARD
BEGIN:DAYLIGHT
TZOFFSETFROM:+0100
TZOFFSETTO:+0200
TZNAME:CEST
DTSTART:20260329T010000
END:DAYLIGHT
BEGIN:STANDARD
TZOFFSETFROM:+0200
TZOFFSETTO:+0100
TZNAME:CET
DTSTART:20261025T010000
END:STANDARD
BEGIN:DAYLIGHT
TZOFFSETFROM:+0100
TZOFFSETTO:+0200
TZNAME:CEST
DTSTART:20270328T010000
END:DAYLIGHT
BEGIN:STANDARD
TZOFFSETFROM:+0200
TZOFFSETTO:+0100
TZNAME:CET
DTSTART:20271031T010000
END:STANDARD
END:VTIMEZONE
BEGIN:VEVENT
DTSTART;TZID=Europe/Berlin:20260423T150000
DTEND;TZID=Europe/Berlin:20260423T180000
DTSTAMP:20260420T064714
CREATED:20260114T112724Z
LAST-MODIFIED:20260114T113554Z
UID:10077860-1776956400-1776967200@www.hessischeskegelspiel.de
SUMMARY:Museum Modern Art Hünfeld: Ausstellung "Zwischenwelten"
DESCRIPTION:
URL:https://www.hessischeskegelspiel.de/veranstaltung/museum-modern-art-huenfeld-ausstellung-zwischenwelten/2026-04-23/
LOCATION:Hünfeld\, Museum Modern Art\, Hersfelder Straße 25\, Hünfeld\, Hessen\, 36088\, Germany
ATTACH;FMTTYPE=image/jpeg:https://www.hessischeskegelspiel.de/wp-content/uploads/2026/01/Plakat-Zwischenwelten-scaled.jpg
END:VEVENT
BEGIN:VEVENT
DTSTART;TZID=Europe/Berlin:20260424T150000
DTEND;TZID=Europe/Berlin:20260424T180000
DTSTAMP:20260420T064714
CREATED:20260114T112724Z
LAST-MODIFIED:20260114T113554Z
UID:10077861-1777042800-1777053600@www.hessischeskegelspiel.de
SUMMARY:Museum Modern Art Hünfeld: Ausstellung "Zwischenwelten"
DESCRIPTION:
URL:https://www.hessischeskegelspiel.de/veranstaltung/museum-modern-art-huenfeld-ausstellung-zwischenwelten/2026-04-24/
LOCATION:Hünfeld\, Museum Modern Art\, Hersfelder Straße 25\, Hünfeld\, Hessen\, 36088\, Germany
ATTACH;FMTTYPE=image/jpeg:https://www.hessischeskegelspiel.de/wp-content/uploads/2026/01/Plakat-Zwischenwelten-scaled.jpg
END:VEVENT
BEGIN:VEVENT
DTSTART;TZID=Europe/Berlin:20260425T150000
DTEND;TZID=Europe/Berlin:20260425T180000
DTSTAMP:20260420T064714
CREATED:20260114T112724Z
LAST-MODIFIED:20260114T113554Z
UID:10077862-1777129200-1777140000@www.hessischeskegelspiel.de
SUMMARY:Museum Modern Art Hünfeld: Ausstellung "Zwischenwelten"
DESCRIPTION:
URL:https://www.hessischeskegelspiel.de/veranstaltung/museum-modern-art-huenfeld-ausstellung-zwischenwelten/2026-04-25/
LOCATION:Hünfeld\, Museum Modern Art\, Hersfelder Straße 25\, Hünfeld\, Hessen\, 36088\, Germany
ATTACH;FMTTYPE=image/jpeg:https://www.hessischeskegelspiel.de/wp-content/uploads/2026/01/Plakat-Zwischenwelten-scaled.jpg
END:VEVENT
BEGIN:VEVENT
DTSTART;TZID=Europe/Berlin:20260426T150000
DTEND;TZID=Europe/Berlin:20260426T180000
DTSTAMP:20260420T064714
CREATED:20260114T112724Z
LAST-MODIFIED:20260114T113554Z
UID:10077863-1777215600-1777226400@www.hessischeskegelspiel.de
SUMMARY:Museum Modern Art Hünfeld: Ausstellung "Zwischenwelten"
DESCRIPTION:
URL:https://www.hessischeskegelspiel.de/veranstaltung/museum-modern-art-huenfeld-ausstellung-zwischenwelten/2026-04-26/
LOCATION:Hünfeld\, Museum Modern Art\, Hersfelder Straße 25\, Hünfeld\, Hessen\, 36088\, Germany
ATTACH;FMTTYPE=image/jpeg:https://www.hessischeskegelspiel.de/wp-content/uploads/2026/01/Plakat-Zwischenwelten-scaled.jpg
END:VEVENT
END:VCALENDAR