BEGIN:VCALENDAR
VERSION:2.0
PRODID:-//Ferienregion Hessisches Kegelspiel - ECPv6.15.20//NONSGML v1.0//EN
CALSCALE:GREGORIAN
METHOD:PUBLISH
X-WR-CALNAME:Ferienregion Hessisches Kegelspiel
X-ORIGINAL-URL:https://www.hessischeskegelspiel.de
X-WR-CALDESC:Veranstaltungen für Ferienregion Hessisches Kegelspiel
REFRESH-INTERVAL;VALUE=DURATION:PT1H
X-Robots-Tag:noindex
X-PUBLISHED-TTL:PT1H
BEGIN:VTIMEZONE
TZID:Europe/Berlin
BEGIN:DAYLIGHT
TZOFFSETFROM:+0100
TZOFFSETTO:+0200
TZNAME:CEST
DTSTART:20250330T010000
END:DAYLIGHT
BEGIN:STANDARD
TZOFFSETFROM:+0200
TZOFFSETTO:+0100
TZNAME:CET
DTSTART:20251026T010000
END:STANDARD
BEGIN:DAYLIGHT
TZOFFSETFROM:+0100
TZOFFSETTO:+0200
TZNAME:CEST
DTSTART:20260329T010000
END:DAYLIGHT
BEGIN:STANDARD
TZOFFSETFROM:+0200
TZOFFSETTO:+0100
TZNAME:CET
DTSTART:20261025T010000
END:STANDARD
BEGIN:DAYLIGHT
TZOFFSETFROM:+0100
TZOFFSETTO:+0200
TZNAME:CEST
DTSTART:20270328T010000
END:DAYLIGHT
BEGIN:STANDARD
TZOFFSETFROM:+0200
TZOFFSETTO:+0100
TZNAME:CET
DTSTART:20271031T010000
END:STANDARD
END:VTIMEZONE
BEGIN:VEVENT
DTSTART;TZID=Europe/Berlin:20260731T080000
DTEND;TZID=Europe/Berlin:20260731T170000
DTSTAMP:20260424T144334
CREATED:20260306T103453Z
LAST-MODIFIED:20260306T103453Z
UID:10078009-1785484800-1785517200@www.hessischeskegelspiel.de
SUMMARY:Haunetal-Neukirchen: Grillfest
DESCRIPTION:
URL:https://www.hessischeskegelspiel.de/veranstaltung/haunetal-neukirchen-grillfest/2026-07-31/
LOCATION:Haunetal-Neukirchen\, Feuerwehrhaus\, Feuerwehrhaus\, Haunetal-Neukirchen\, 36166
END:VEVENT
BEGIN:VEVENT
DTSTART;TZID=Europe/Berlin:20260801T080000
DTEND;TZID=Europe/Berlin:20260801T170000
DTSTAMP:20260424T144334
CREATED:20260306T103453Z
LAST-MODIFIED:20260306T103453Z
UID:10078010-1785571200-1785603600@www.hessischeskegelspiel.de
SUMMARY:Haunetal-Neukirchen: Grillfest
DESCRIPTION:
URL:https://www.hessischeskegelspiel.de/veranstaltung/haunetal-neukirchen-grillfest/2026-08-01/
LOCATION:Haunetal-Neukirchen\, Feuerwehrhaus\, Feuerwehrhaus\, Haunetal-Neukirchen\, 36166
END:VEVENT
BEGIN:VEVENT
DTSTART;TZID=Europe/Berlin:20260802T080000
DTEND;TZID=Europe/Berlin:20260802T170000
DTSTAMP:20260424T144334
CREATED:20260306T103453Z
LAST-MODIFIED:20260306T103453Z
UID:10078011-1785657600-1785690000@www.hessischeskegelspiel.de
SUMMARY:Haunetal-Neukirchen: Grillfest
DESCRIPTION:
URL:https://www.hessischeskegelspiel.de/veranstaltung/haunetal-neukirchen-grillfest/2026-08-02/
LOCATION:Haunetal-Neukirchen\, Feuerwehrhaus\, Feuerwehrhaus\, Haunetal-Neukirchen\, 36166
END:VEVENT
END:VCALENDAR