BEGIN:VCALENDAR
VERSION:2.0
PRODID:-//Ferienregion Hessisches Kegelspiel - ECPv6.15.20//NONSGML v1.0//EN
CALSCALE:GREGORIAN
METHOD:PUBLISH
X-WR-CALNAME:Ferienregion Hessisches Kegelspiel
X-ORIGINAL-URL:https://www.hessischeskegelspiel.de
X-WR-CALDESC:Veranstaltungen für Ferienregion Hessisches Kegelspiel
REFRESH-INTERVAL;VALUE=DURATION:PT1H
X-Robots-Tag:noindex
X-PUBLISHED-TTL:PT1H
BEGIN:VTIMEZONE
TZID:Europe/Berlin
BEGIN:DAYLIGHT
TZOFFSETFROM:+0100
TZOFFSETTO:+0200
TZNAME:CEST
DTSTART:20250330T010000
END:DAYLIGHT
BEGIN:STANDARD
TZOFFSETFROM:+0200
TZOFFSETTO:+0100
TZNAME:CET
DTSTART:20251026T010000
END:STANDARD
BEGIN:DAYLIGHT
TZOFFSETFROM:+0100
TZOFFSETTO:+0200
TZNAME:CEST
DTSTART:20260329T010000
END:DAYLIGHT
BEGIN:STANDARD
TZOFFSETFROM:+0200
TZOFFSETTO:+0100
TZNAME:CET
DTSTART:20261025T010000
END:STANDARD
BEGIN:DAYLIGHT
TZOFFSETFROM:+0100
TZOFFSETTO:+0200
TZNAME:CEST
DTSTART:20270328T010000
END:DAYLIGHT
BEGIN:STANDARD
TZOFFSETFROM:+0200
TZOFFSETTO:+0100
TZNAME:CET
DTSTART:20271031T010000
END:STANDARD
END:VTIMEZONE
BEGIN:VEVENT
DTSTART;TZID=Europe/Berlin:20260423T150000
DTEND;TZID=Europe/Berlin:20260423T170000
DTSTAMP:20260420T045305
CREATED:20260304T112349Z
LAST-MODIFIED:20260304T112349Z
UID:10077990-1776956400-1776963600@www.hessischeskegelspiel.de
SUMMARY:Hünfeld: Drahtkunst-Workshop
DESCRIPTION:
URL:https://www.hessischeskegelspiel.de/veranstaltung/huenfeld-drahtkunst-workshop/
LOCATION:Hünfeld\, Museum Modern Art\, Hersfelder Straße 25\, Hünfeld\, Hessen\, 36088\, Germany
ATTACH;FMTTYPE=image/jpeg:https://www.hessischeskegelspiel.de/wp-content/uploads/2026/03/okDrahtkunst-Kinder-M25.jpg
END:VEVENT
BEGIN:VEVENT
DTSTART;TZID=Europe/Berlin:20260423T150000
DTEND;TZID=Europe/Berlin:20260423T180000
DTSTAMP:20260420T045305
CREATED:20260114T112724Z
LAST-MODIFIED:20260114T113554Z
UID:10077860-1776956400-1776967200@www.hessischeskegelspiel.de
SUMMARY:Museum Modern Art Hünfeld: Ausstellung "Zwischenwelten"
DESCRIPTION:
URL:https://www.hessischeskegelspiel.de/veranstaltung/museum-modern-art-huenfeld-ausstellung-zwischenwelten/2026-04-23/
LOCATION:Hünfeld\, Museum Modern Art\, Hersfelder Straße 25\, Hünfeld\, Hessen\, 36088\, Germany
ATTACH;FMTTYPE=image/jpeg:https://www.hessischeskegelspiel.de/wp-content/uploads/2026/01/Plakat-Zwischenwelten-scaled.jpg
END:VEVENT
BEGIN:VEVENT
DTSTART;TZID=Europe/Berlin:20260424T150000
DTEND;TZID=Europe/Berlin:20260424T180000
DTSTAMP:20260420T045305
CREATED:20260114T112724Z
LAST-MODIFIED:20260114T113554Z
UID:10077861-1777042800-1777053600@www.hessischeskegelspiel.de
SUMMARY:Museum Modern Art Hünfeld: Ausstellung "Zwischenwelten"
DESCRIPTION:
URL:https://www.hessischeskegelspiel.de/veranstaltung/museum-modern-art-huenfeld-ausstellung-zwischenwelten/2026-04-24/
LOCATION:Hünfeld\, Museum Modern Art\, Hersfelder Straße 25\, Hünfeld\, Hessen\, 36088\, Germany
ATTACH;FMTTYPE=image/jpeg:https://www.hessischeskegelspiel.de/wp-content/uploads/2026/01/Plakat-Zwischenwelten-scaled.jpg
END:VEVENT
BEGIN:VEVENT
DTSTART;TZID=Europe/Berlin:20260424T160000
DTEND;TZID=Europe/Berlin:20260424T180000
DTSTAMP:20260420T045305
CREATED:20260416T120051Z
LAST-MODIFIED:20260416T120051Z
UID:10078368-1777046400-1777053600@www.hessischeskegelspiel.de
SUMMARY:Burghauner Marktplatz Konzerte: E.V. DER FFW
DESCRIPTION:
URL:https://www.hessischeskegelspiel.de/veranstaltung/burghauner-marktplatz-konzerte-e-v-der-ffw/
ATTACH;FMTTYPE=image/png:https://www.hessischeskegelspiel.de/wp-content/uploads/2026/04/Screenshot-2026-04-16-133329.png
END:VEVENT
BEGIN:VEVENT
DTSTART;TZID=Europe/Berlin:20260424T170000
DTEND;TZID=Europe/Berlin:20260424T183000
DTSTAMP:20260420T045305
CREATED:20260416T121831Z
LAST-MODIFIED:20260416T121838Z
UID:10078374-1777050000-1777055400@www.hessischeskegelspiel.de
SUMMARY:Familienwanderung für Groß und Klein
DESCRIPTION:
URL:https://www.hessischeskegelspiel.de/veranstaltung/familienwanderung-fuer-gross-und-klein/
ATTACH;FMTTYPE=image/png:https://www.hessischeskegelspiel.de/wp-content/uploads/2026/04/Design-ohne-Titel-1.png
END:VEVENT
BEGIN:VEVENT
DTSTART;TZID=Europe/Berlin:20260424T193000
DTEND;TZID=Europe/Berlin:20260424T213000
DTSTAMP:20260420T045305
CREATED:20260304T112021Z
LAST-MODIFIED:20260304T112021Z
UID:10077987-1777059000-1777066200@www.hessischeskegelspiel.de
SUMMARY:Theater Sargenzell: Kaviar trifft Currywurst
DESCRIPTION:
URL:https://www.hessischeskegelspiel.de/veranstaltung/theater-sargenzell-kaviar-trifft-currywurst/2026-04-24/
LOCATION:Hünfeld-Sargenzell\, Alte Kirche\, Salugoweg\, Hünfeld-Sargenzell\, Hessen\, 36088\, Deutschland
ATTACH;FMTTYPE=image/png:https://www.hessischeskegelspiel.de/wp-content/uploads/2026/03/ok-1.png
END:VEVENT
BEGIN:VEVENT
DTSTART;TZID=Europe/Berlin:20260424T193000
DTEND;TZID=Europe/Berlin:20260424T213000
DTSTAMP:20260420T045305
CREATED:20260331T115924Z
LAST-MODIFIED:20260331T115924Z
UID:10078357-1777059000-1777066200@www.hessischeskegelspiel.de
SUMMARY:Theatergruppe Däfter Jugendbühne: Der Einbruch + Unter Geiern
DESCRIPTION:Vorverkauf bei Bernd und Sabine Krieg: 06672 7745
URL:https://www.hessischeskegelspiel.de/veranstaltung/theatergruppe-daefter-jugendbuehne-der-einbruch-unter-geiern/2026-04-24/
LOCATION:Eiterfeld-Großentaft\, Haus Hessisches Kegelspiel\, Leibolzer Straße 2a\, Eiterfeld-Großentaft\, Hessen\, 36132\, Deutschland
ATTACH;FMTTYPE=image/png:https://www.hessischeskegelspiel.de/wp-content/uploads/2026/03/5.png
END:VEVENT
BEGIN:VEVENT
DTSTART;TZID=Europe/Berlin:20260424T200000
DTEND;TZID=Europe/Berlin:20260424T213000
DTSTAMP:20260420T045305
CREATED:20251008T085310Z
LAST-MODIFIED:20251203T095506Z
UID:10077527-1777060800-1777066200@www.hessischeskegelspiel.de
SUMMARY:"La Chanson à texte" mit der Sopransängerin Annabelle Hund
DESCRIPTION:
URL:https://www.hessischeskegelspiel.de/veranstaltung/la-chanson-a-texte-mit-der-sopransaengerin-annabelle-hund/
LOCATION:Hünfeld\, Rathaus
ATTACH;FMTTYPE=image/png:https://www.hessischeskegelspiel.de/wp-content/uploads/2025/10/Kulturabend-La-Chanson-a-texte.png
END:VEVENT
BEGIN:VEVENT
DTSTART;TZID=Europe/Berlin:20260425T140000
DTEND;TZID=Europe/Berlin:20260425T160000
DTSTAMP:20260420T045305
CREATED:20260416T105451Z
LAST-MODIFIED:20260416T105451Z
UID:10078364-1777125600-1777132800@www.hessischeskegelspiel.de
SUMMARY:Saisoneröffnung Kegelspielradweg
DESCRIPTION:Saisonstart am Kegelspielradweg: Gemeinsame Auftakttour am 25. April \nHünfeld. Mit dem Frühling beginnt auch wieder die Radsaison auf dem beliebten Kegelspielradweg: Die Arbeitsgemeinschaft Kegelspielradweg lädt am Samstag\, 25. April 2026\, herzlich zur offiziellen Saisoneröffnung ein. Start der Veranstaltung ist um 14:00 Uhr am Einstieg des Radweges in der Wellastraße in Hünfeld. \nNach einer kurzen Begrüßung vor Ort machen sich die Teilnehmerinnen und Teilnehmer gemeinsam auf den Weg in Richtung Burghaun. Ziel der gemütlichen Auftakttour ist die „Bimbel“\, wo alle Radlerinnen und Radler bei Kaffee und Kuchen den Nachmittag in geselliger Runde ausklingen lassen können. \nDer rund 27 Kilometer lange Kegelspielradweg zählt zu den attraktivsten Radstrecken der Region. Er verläuft größtenteils auf einer ehemaligen Bahntrasse und ist daher besonders familienfreundlich\, da nur geringe Steigungen zu bewältigen sind. Entlang der Strecke eröffnen sich immer wieder beeindruckende Ausblicke auf die abwechslungsreiche Landschaft der Rhön\, das weite Haunetal sowie das charakteristische Panorama des Hessischen Kegelspiels. \nDie AG Kegelspielradweg freut sich auf zahlreiche Teilnehmerinnen und Teilnehmer und einen gelungenen Start in die neue Fahrradsaison.
URL:https://www.hessischeskegelspiel.de/veranstaltung/saisoneroeffnung-kegelspielradweg/
ATTACH;FMTTYPE=image/png:https://www.hessischeskegelspiel.de/wp-content/uploads/2026/04/Saisoneroeffnung-Kegelspielradweg-Samstag-25.-April-14-Uhr-Treffpunkt-Einstieg-Wellastrasse-in-Huenfeld-Einkehr-Bimbel-Burghaun-4.png
END:VEVENT
BEGIN:VEVENT
DTSTART;TZID=Europe/Berlin:20260425T150000
DTEND;TZID=Europe/Berlin:20260425T180000
DTSTAMP:20260420T045305
CREATED:20260114T112724Z
LAST-MODIFIED:20260114T113554Z
UID:10077862-1777129200-1777140000@www.hessischeskegelspiel.de
SUMMARY:Museum Modern Art Hünfeld: Ausstellung "Zwischenwelten"
DESCRIPTION:
URL:https://www.hessischeskegelspiel.de/veranstaltung/museum-modern-art-huenfeld-ausstellung-zwischenwelten/2026-04-25/
LOCATION:Hünfeld\, Museum Modern Art\, Hersfelder Straße 25\, Hünfeld\, Hessen\, 36088\, Germany
ATTACH;FMTTYPE=image/jpeg:https://www.hessischeskegelspiel.de/wp-content/uploads/2026/01/Plakat-Zwischenwelten-scaled.jpg
END:VEVENT
BEGIN:VEVENT
DTSTART;TZID=Europe/Berlin:20260425T193000
DTEND;TZID=Europe/Berlin:20260425T213000
DTSTAMP:20260420T045305
CREATED:20260304T112021Z
LAST-MODIFIED:20260304T112021Z
UID:10077988-1777145400-1777152600@www.hessischeskegelspiel.de
SUMMARY:Theater Sargenzell: Kaviar trifft Currywurst
DESCRIPTION:
URL:https://www.hessischeskegelspiel.de/veranstaltung/theater-sargenzell-kaviar-trifft-currywurst/2026-04-25/
LOCATION:Hünfeld-Sargenzell\, Alte Kirche\, Salugoweg\, Hünfeld-Sargenzell\, Hessen\, 36088\, Deutschland
ATTACH;FMTTYPE=image/png:https://www.hessischeskegelspiel.de/wp-content/uploads/2026/03/ok-1.png
END:VEVENT
BEGIN:VEVENT
DTSTART;TZID=Europe/Berlin:20260425T193000
DTEND;TZID=Europe/Berlin:20260425T213000
DTSTAMP:20260420T045305
CREATED:20260331T115924Z
LAST-MODIFIED:20260331T115924Z
UID:10078358-1777145400-1777152600@www.hessischeskegelspiel.de
SUMMARY:Theatergruppe Däfter Jugendbühne: Der Einbruch + Unter Geiern
DESCRIPTION:Vorverkauf bei Bernd und Sabine Krieg: 06672 7745
URL:https://www.hessischeskegelspiel.de/veranstaltung/theatergruppe-daefter-jugendbuehne-der-einbruch-unter-geiern/2026-04-25/
LOCATION:Eiterfeld-Großentaft\, Haus Hessisches Kegelspiel\, Leibolzer Straße 2a\, Eiterfeld-Großentaft\, Hessen\, 36132\, Deutschland
ATTACH;FMTTYPE=image/png:https://www.hessischeskegelspiel.de/wp-content/uploads/2026/03/5.png
END:VEVENT
BEGIN:VEVENT
DTSTART;TZID=Europe/Berlin:20260426T100000
DTEND;TZID=Europe/Berlin:20260426T160000
DTSTAMP:20260420T045305
CREATED:20260331T120159Z
LAST-MODIFIED:20260331T120210Z
UID:10078359-1777197600-1777219200@www.hessischeskegelspiel.de
SUMMARY:Pflanzenbörse in Schlotzau
DESCRIPTION:
URL:https://www.hessischeskegelspiel.de/veranstaltung/pflanzenboerse-in-schlotzau/
LOCATION:Burghaun-Schlotzau\, Grillplatz\, Am Grillplatz\, Burghaun-Schlotzau\, Hessen\, 36151\, Germany
ATTACH;FMTTYPE=image/png:https://www.hessischeskegelspiel.de/wp-content/uploads/2026/03/Screenshot-2026-03-31-140126.png
END:VEVENT
BEGIN:VEVENT
DTSTART;TZID=Europe/Berlin:20260426T100000
DTEND;TZID=Europe/Berlin:20260426T170000
DTSTAMP:20260420T045305
CREATED:20260408T100843Z
LAST-MODIFIED:20260408T100843Z
UID:10078363-1777197600-1777222800@www.hessischeskegelspiel.de
SUMMARY:Jüdischer Friedhof in Tann und Besuch der Dorfkirche zu Habel
DESCRIPTION:Sonntag 26. April 2026 \nJüdischer Friedhof in Tann und Besuch der Dorfkirche zu Habel (Barock) \n \nZunächst besichtigen wir in Habel die schöne Barockkirche mit ihren außergewöhnlichen Malereien. \nZwei der vielen Engelsgesichter sind berühmt wegen ihrer Ähnlichkeit mit den Hollywood Stars Jane Russel und Marilyn Monroe. \nAnschließend umrunden wir\, z.T. auf dem Kolonnenweg\,  den Boxberg. \nWir fahren weiter nach Tann. \nEin Gang durch das jüdische Viertel führt uns zum alten\, jüdischen Friedhof (steiler Aufstieg ). 131 Gräber sind noch erhalten aus der Zeit von 1741 bis 1937. \nVom Friedhof hat man einen schönen Blick auf das Städtchen und die nördliche Rhön. \nBeim Schlusshock in Tann lassen wir den Tag ausklingen.  Ende ca. 19 Uhr \n  \nTreffpunkt: 10:00 Uhr Parkplatz\nUnsben / Landerneauallee\n\nAbfahrt in Fahrgemeinschaften\nOrganisation und Führung:\nGerda Gerlach 06652 3342\n0171 2720976\nBärbel Wagner 06652 2598\nGesamtlänge der Wanderung 10 km \nSchwierigkeitsgrad: leicht\nGäste sind herzlich willkommen
URL:https://www.hessischeskegelspiel.de/veranstaltung/juedischer-friedhof-in-tann-und-besuch-der-dorfkirche-zu-habel/
LOCATION:Hünfeld\, Parkplatz Unsben\, Zu den Unsben\, Hünfeld\, Hessen\, 36088\, Deutschland
ATTACH;FMTTYPE=image/jpeg:https://www.hessischeskegelspiel.de/wp-content/uploads/2026/04/cb17367b-e44d-4ad5-b88b-5c7a0f5a412c.jpg
END:VEVENT
BEGIN:VEVENT
DTSTART;TZID=Europe/Berlin:20260426T150000
DTEND;TZID=Europe/Berlin:20260426T180000
DTSTAMP:20260420T045305
CREATED:20260114T112724Z
LAST-MODIFIED:20260114T113554Z
UID:10077863-1777215600-1777226400@www.hessischeskegelspiel.de
SUMMARY:Museum Modern Art Hünfeld: Ausstellung "Zwischenwelten"
DESCRIPTION:
URL:https://www.hessischeskegelspiel.de/veranstaltung/museum-modern-art-huenfeld-ausstellung-zwischenwelten/2026-04-26/
LOCATION:Hünfeld\, Museum Modern Art\, Hersfelder Straße 25\, Hünfeld\, Hessen\, 36088\, Germany
ATTACH;FMTTYPE=image/jpeg:https://www.hessischeskegelspiel.de/wp-content/uploads/2026/01/Plakat-Zwischenwelten-scaled.jpg
END:VEVENT
END:VCALENDAR