BEGIN:VCALENDAR
VERSION:2.0
PRODID:-//Ferienregion Hessisches Kegelspiel - ECPv6.15.20//NONSGML v1.0//EN
CALSCALE:GREGORIAN
METHOD:PUBLISH
X-ORIGINAL-URL:https://www.hessischeskegelspiel.de
X-WR-CALDESC:Veranstaltungen für Ferienregion Hessisches Kegelspiel
REFRESH-INTERVAL;VALUE=DURATION:PT1H
X-Robots-Tag:noindex
X-PUBLISHED-TTL:PT1H
BEGIN:VTIMEZONE
TZID:Europe/Berlin
BEGIN:DAYLIGHT
TZOFFSETFROM:+0100
TZOFFSETTO:+0200
TZNAME:CEST
DTSTART:20250330T010000
END:DAYLIGHT
BEGIN:STANDARD
TZOFFSETFROM:+0200
TZOFFSETTO:+0100
TZNAME:CET
DTSTART:20251026T010000
END:STANDARD
BEGIN:DAYLIGHT
TZOFFSETFROM:+0100
TZOFFSETTO:+0200
TZNAME:CEST
DTSTART:20260329T010000
END:DAYLIGHT
BEGIN:STANDARD
TZOFFSETFROM:+0200
TZOFFSETTO:+0100
TZNAME:CET
DTSTART:20261025T010000
END:STANDARD
BEGIN:DAYLIGHT
TZOFFSETFROM:+0100
TZOFFSETTO:+0200
TZNAME:CEST
DTSTART:20270328T010000
END:DAYLIGHT
BEGIN:STANDARD
TZOFFSETFROM:+0200
TZOFFSETTO:+0100
TZNAME:CET
DTSTART:20271031T010000
END:STANDARD
END:VTIMEZONE
BEGIN:VEVENT
DTSTART;TZID=Europe/Berlin:20260516T090000
DTEND;TZID=Europe/Berlin:20260516T123000
DTSTAMP:20260420T121848
CREATED:20260305T132114Z
LAST-MODIFIED:20260305T132114Z
UID:10078003-1778922000-1778934600@www.hessischeskegelspiel.de
SUMMARY:Haunetaler Bauernmarkt
DESCRIPTION:
URL:https://www.hessischeskegelspiel.de/veranstaltung/haunetaler-bauernmarkt-3/
LOCATION:Haunetal-Neukirchen\, Konrad-Zuse-Platz\, Konrad-Zuse-Platz\, Haunetal-Neukirchen\, Hessen\, 36166\, Deutschland
END:VEVENT
BEGIN:VEVENT
DTSTART;TZID=Europe/Berlin:20260620T090000
DTEND;TZID=Europe/Berlin:20260620T123000
DTSTAMP:20260420T121848
CREATED:20260305T132223Z
LAST-MODIFIED:20260305T132223Z
UID:10078004-1781946000-1781958600@www.hessischeskegelspiel.de
SUMMARY:Haunetaler Bauernmarkt
DESCRIPTION:
URL:https://www.hessischeskegelspiel.de/veranstaltung/haunetaler-bauernmarkt-5/
LOCATION:Haunetal-Neukirchen\, Konrad-Zuse-Platz\, Konrad-Zuse-Platz\, Haunetal-Neukirchen\, Hessen\, 36166\, Deutschland
END:VEVENT
BEGIN:VEVENT
DTSTART;TZID=Europe/Berlin:20260814T160000
DTEND;TZID=Europe/Berlin:20260814T190000
DTSTAMP:20260420T121848
CREATED:20260306T103541Z
LAST-MODIFIED:20260306T103541Z
UID:10078012-1786723200-1786734000@www.hessischeskegelspiel.de
SUMMARY:Haunetal-Neukirchen: Feierabendmarkt
DESCRIPTION:
URL:https://www.hessischeskegelspiel.de/veranstaltung/haunetal-neukirchen-feierabendmarkt/
LOCATION:Haunetal-Neukirchen\, Konrad-Zuse-Platz\, Konrad-Zuse-Platz\, Haunetal-Neukirchen\, Hessen\, 36166\, Deutschland
END:VEVENT
BEGIN:VEVENT
DTSTART;TZID=Europe/Berlin:20260919T090000
DTEND;TZID=Europe/Berlin:20260919T123000
DTSTAMP:20260420T121848
CREATED:20260305T132307Z
LAST-MODIFIED:20260305T132307Z
UID:10078005-1789808400-1789821000@www.hessischeskegelspiel.de
SUMMARY:Haunetaler Bauernmarkt
DESCRIPTION:
URL:https://www.hessischeskegelspiel.de/veranstaltung/haunetaler-bauernmarkt-6/
LOCATION:Haunetal-Neukirchen\, Konrad-Zuse-Platz\, Konrad-Zuse-Platz\, Haunetal-Neukirchen\, Hessen\, 36166\, Deutschland
END:VEVENT
BEGIN:VEVENT
DTSTART;TZID=Europe/Berlin:20261017T090000
DTEND;TZID=Europe/Berlin:20261017T123000
DTSTAMP:20260420T121848
CREATED:20260305T132344Z
LAST-MODIFIED:20260305T132344Z
UID:10078006-1792227600-1792240200@www.hessischeskegelspiel.de
SUMMARY:Haunetaler Bauernmarkt
DESCRIPTION:
URL:https://www.hessischeskegelspiel.de/veranstaltung/haunetaler-bauernmarkt-7/
LOCATION:Haunetal-Neukirchen\, Konrad-Zuse-Platz\, Konrad-Zuse-Platz\, Haunetal-Neukirchen\, Hessen\, 36166\, Deutschland
END:VEVENT
BEGIN:VEVENT
DTSTART;TZID=Europe/Berlin:20261128T150000
DTEND;TZID=Europe/Berlin:20261128T220000
DTSTAMP:20260420T121848
CREATED:20260306T103629Z
LAST-MODIFIED:20260306T103629Z
UID:10078013-1795878000-1795903200@www.hessischeskegelspiel.de
SUMMARY:Neukirchner Weihnachtszauber
DESCRIPTION:
URL:https://www.hessischeskegelspiel.de/veranstaltung/neukirchner-weihnachtszauber/
LOCATION:Haunetal-Neukirchen\, Konrad-Zuse-Platz\, Konrad-Zuse-Platz\, Haunetal-Neukirchen\, Hessen\, 36166\, Deutschland
END:VEVENT
BEGIN:VEVENT
DTSTART;TZID=Europe/Berlin:20261219T090000
DTEND;TZID=Europe/Berlin:20261219T123000
DTSTAMP:20260420T121848
CREATED:20260305T132428Z
LAST-MODIFIED:20260305T132428Z
UID:10078007-1797670800-1797683400@www.hessischeskegelspiel.de
SUMMARY:Haunetaler Bauernmarkt
DESCRIPTION:
URL:https://www.hessischeskegelspiel.de/veranstaltung/haunetaler-bauernmarkt-8/
LOCATION:Haunetal-Neukirchen\, Konrad-Zuse-Platz\, Konrad-Zuse-Platz\, Haunetal-Neukirchen\, Hessen\, 36166\, Deutschland
END:VEVENT
END:VCALENDAR