BEGIN:VCALENDAR
VERSION:2.0
PRODID:-//Ferienregion Hessisches Kegelspiel - ECPv6.15.20//NONSGML v1.0//EN
CALSCALE:GREGORIAN
METHOD:PUBLISH
X-ORIGINAL-URL:https://www.hessischeskegelspiel.de
X-WR-CALDESC:Veranstaltungen für Ferienregion Hessisches Kegelspiel
REFRESH-INTERVAL;VALUE=DURATION:PT1H
X-Robots-Tag:noindex
X-PUBLISHED-TTL:PT1H
BEGIN:VTIMEZONE
TZID:Europe/Berlin
BEGIN:DAYLIGHT
TZOFFSETFROM:+0100
TZOFFSETTO:+0200
TZNAME:CEST
DTSTART:20250330T010000
END:DAYLIGHT
BEGIN:STANDARD
TZOFFSETFROM:+0200
TZOFFSETTO:+0100
TZNAME:CET
DTSTART:20251026T010000
END:STANDARD
BEGIN:DAYLIGHT
TZOFFSETFROM:+0100
TZOFFSETTO:+0200
TZNAME:CEST
DTSTART:20260329T010000
END:DAYLIGHT
BEGIN:STANDARD
TZOFFSETFROM:+0200
TZOFFSETTO:+0100
TZNAME:CET
DTSTART:20261025T010000
END:STANDARD
BEGIN:DAYLIGHT
TZOFFSETFROM:+0100
TZOFFSETTO:+0200
TZNAME:CEST
DTSTART:20270328T010000
END:DAYLIGHT
BEGIN:STANDARD
TZOFFSETFROM:+0200
TZOFFSETTO:+0100
TZNAME:CET
DTSTART:20271031T010000
END:STANDARD
END:VTIMEZONE
BEGIN:VEVENT
DTSTART;TZID=Europe/Berlin:20260703T170000
DTEND;TZID=Europe/Berlin:20260703T233000
DTSTAMP:20260424T124914
CREATED:20260304T123232Z
LAST-MODIFIED:20260304T123232Z
UID:10077995-1783098000-1783121400@www.hessischeskegelspiel.de
SUMMARY:Lange Nacht Hünfeld
DESCRIPTION:
URL:https://www.hessischeskegelspiel.de/veranstaltung/lange-nacht-huenfeld/
LOCATION:Hünfeld\, Innenstadt
END:VEVENT
BEGIN:VEVENT
DTSTART;TZID=Europe/Berlin:20261107T100000
DTEND;TZID=Europe/Berlin:20261107T170000
DTSTAMP:20260424T124914
CREATED:20260304T123335Z
LAST-MODIFIED:20260304T123335Z
UID:10077997-1794045600-1794070800@www.hessischeskegelspiel.de
SUMMARY:Martinsmarkt Hünfeld
DESCRIPTION:
URL:https://www.hessischeskegelspiel.de/veranstaltung/martinsmarkt-huenfeld/
LOCATION:Hünfeld\, Innenstadt
END:VEVENT
BEGIN:VEVENT
DTSTART;TZID=Europe/Berlin:20261108T100000
DTEND;TZID=Europe/Berlin:20261108T170000
DTSTAMP:20260424T124914
CREATED:20260304T123413Z
LAST-MODIFIED:20260304T123423Z
UID:10077998-1794132000-1794157200@www.hessischeskegelspiel.de
SUMMARY:Martinsmarkt Hünfeld
DESCRIPTION:
URL:https://www.hessischeskegelspiel.de/veranstaltung/martinsmarkt-huenfeld-2/
LOCATION:Hünfeld\, Innenstadt
END:VEVENT
END:VCALENDAR