BEGIN:VCALENDAR
VERSION:2.0
PRODID:-//Ferienregion Hessisches Kegelspiel - ECPv6.15.20//NONSGML v1.0//EN
CALSCALE:GREGORIAN
METHOD:PUBLISH
X-ORIGINAL-URL:https://www.hessischeskegelspiel.de
X-WR-CALDESC:Veranstaltungen für Ferienregion Hessisches Kegelspiel
REFRESH-INTERVAL;VALUE=DURATION:PT1H
X-Robots-Tag:noindex
X-PUBLISHED-TTL:PT1H
BEGIN:VTIMEZONE
TZID:Europe/Berlin
BEGIN:DAYLIGHT
TZOFFSETFROM:+0100
TZOFFSETTO:+0200
TZNAME:CEST
DTSTART:20250330T010000
END:DAYLIGHT
BEGIN:STANDARD
TZOFFSETFROM:+0200
TZOFFSETTO:+0100
TZNAME:CET
DTSTART:20251026T010000
END:STANDARD
BEGIN:DAYLIGHT
TZOFFSETFROM:+0100
TZOFFSETTO:+0200
TZNAME:CEST
DTSTART:20260329T010000
END:DAYLIGHT
BEGIN:STANDARD
TZOFFSETFROM:+0200
TZOFFSETTO:+0100
TZNAME:CET
DTSTART:20261025T010000
END:STANDARD
BEGIN:DAYLIGHT
TZOFFSETFROM:+0100
TZOFFSETTO:+0200
TZNAME:CEST
DTSTART:20270328T010000
END:DAYLIGHT
BEGIN:STANDARD
TZOFFSETFROM:+0200
TZOFFSETTO:+0100
TZNAME:CET
DTSTART:20271031T010000
END:STANDARD
END:VTIMEZONE
BEGIN:VEVENT
DTSTART;TZID=Europe/Berlin:20260310T200000
DTEND;TZID=Europe/Berlin:20260310T213000
DTSTAMP:20260421T125943
CREATED:20251008T085135Z
LAST-MODIFIED:20251203T095843Z
UID:10077526-1773172800-1773178200@www.hessischeskegelspiel.de
SUMMARY:Leni & Susan: Riefenstahl und Rosenblatt are dead
DESCRIPTION:
URL:https://www.hessischeskegelspiel.de/veranstaltung/leni-susan-riefenstahl-und-rosenblatt-are-dead/
LOCATION:Hünfeld\, Rathaus
ATTACH;FMTTYPE=image/png:https://www.hessischeskegelspiel.de/wp-content/uploads/2025/10/Kulturabend-Leni-und-Susan.png
END:VEVENT
BEGIN:VEVENT
DTSTART;TZID=Europe/Berlin:20260210T200000
DTEND;TZID=Europe/Berlin:20260210T213000
DTSTAMP:20260421T125943
CREATED:20251008T085016Z
LAST-MODIFIED:20251203T095649Z
UID:10077525-1770753600-1770759000@www.hessischeskegelspiel.de
SUMMARY:Solo-Piano mit Harald Krüger
DESCRIPTION:
URL:https://www.hessischeskegelspiel.de/veranstaltung/solo-piano-mit-harald-krueger/
LOCATION:Hünfeld\, Rathaus
ATTACH;FMTTYPE=image/png:https://www.hessischeskegelspiel.de/wp-content/uploads/2025/10/Kulturabend-Harald-Krueger.png
END:VEVENT
END:VCALENDAR