BEGIN:VCALENDAR
VERSION:2.0
PRODID:-//Ferienregion Hessisches Kegelspiel - ECPv6.15.20//NONSGML v1.0//EN
CALSCALE:GREGORIAN
METHOD:PUBLISH
X-ORIGINAL-URL:https://www.hessischeskegelspiel.de
X-WR-CALDESC:Veranstaltungen für Ferienregion Hessisches Kegelspiel
REFRESH-INTERVAL;VALUE=DURATION:PT1H
X-Robots-Tag:noindex
X-PUBLISHED-TTL:PT1H
BEGIN:VTIMEZONE
TZID:Europe/Berlin
BEGIN:DAYLIGHT
TZOFFSETFROM:+0100
TZOFFSETTO:+0200
TZNAME:CEST
DTSTART:20250330T010000
END:DAYLIGHT
BEGIN:STANDARD
TZOFFSETFROM:+0200
TZOFFSETTO:+0100
TZNAME:CET
DTSTART:20251026T010000
END:STANDARD
BEGIN:DAYLIGHT
TZOFFSETFROM:+0100
TZOFFSETTO:+0200
TZNAME:CEST
DTSTART:20260329T010000
END:DAYLIGHT
BEGIN:STANDARD
TZOFFSETFROM:+0200
TZOFFSETTO:+0100
TZNAME:CET
DTSTART:20261025T010000
END:STANDARD
BEGIN:DAYLIGHT
TZOFFSETFROM:+0100
TZOFFSETTO:+0200
TZNAME:CEST
DTSTART:20270328T010000
END:DAYLIGHT
BEGIN:STANDARD
TZOFFSETFROM:+0200
TZOFFSETTO:+0100
TZNAME:CET
DTSTART:20271031T010000
END:STANDARD
END:VTIMEZONE
BEGIN:VEVENT
DTSTART;TZID=Europe/Berlin:20260424T193000
DTEND;TZID=Europe/Berlin:20260424T213000
DTSTAMP:20260424T123706
CREATED:20260304T112021Z
LAST-MODIFIED:20260304T112021Z
UID:10077987-1777059000-1777066200@www.hessischeskegelspiel.de
SUMMARY:Theater Sargenzell: Kaviar trifft Currywurst
DESCRIPTION:
URL:https://www.hessischeskegelspiel.de/veranstaltung/theater-sargenzell-kaviar-trifft-currywurst/2026-04-24/
LOCATION:Hünfeld-Sargenzell\, Alte Kirche\, Salugoweg\, Hünfeld-Sargenzell\, Hessen\, 36088\, Deutschland
ATTACH;FMTTYPE=image/png:https://www.hessischeskegelspiel.de/wp-content/uploads/2026/03/ok-1.png
END:VEVENT
BEGIN:VEVENT
DTSTART;TZID=Europe/Berlin:20260905T103000
DTEND;TZID=Europe/Berlin:20260905T163000
DTSTAMP:20260424T123707
CREATED:20251223T093700Z
LAST-MODIFIED:20251223T093700Z
UID:10077750-1788604200-1788625800@www.hessischeskegelspiel.de
SUMMARY:Sargenzeller Früchteteppich
DESCRIPTION:
URL:https://www.hessischeskegelspiel.de/veranstaltung/sargenzeller-fruechteteppich-7/2026-09-05/
LOCATION:Hünfeld-Sargenzell\, Alte Kirche\, Salugoweg\, Hünfeld-Sargenzell\, Hessen\, 36088\, Deutschland
ATTACH;FMTTYPE=image/jpeg:https://www.hessischeskegelspiel.de/wp-content/uploads/2025/12/IMG_1790-scaled.jpg
END:VEVENT
BEGIN:VEVENT
DTSTART;TZID=Europe/Berlin:20260906T103000
DTEND;TZID=Europe/Berlin:20260906T163000
DTSTAMP:20260424T123707
CREATED:20251223T091831Z
LAST-MODIFIED:20251223T091913Z
UID:10077693-1788690600-1788712200@www.hessischeskegelspiel.de
SUMMARY:Sargenzeller Früchteteppich
DESCRIPTION:
URL:https://www.hessischeskegelspiel.de/veranstaltung/sargenzeller-fruechteteppich-2/2026-09-06/
LOCATION:Hünfeld-Sargenzell\, Alte Kirche\, Salugoweg\, Hünfeld-Sargenzell\, Hessen\, 36088\, Deutschland
ATTACH;FMTTYPE=image/jpeg:https://www.hessischeskegelspiel.de/wp-content/uploads/2025/12/IMG_1790-scaled.jpg
END:VEVENT
BEGIN:VEVENT
DTSTART;TZID=Europe/Berlin:20260907T103000
DTEND;TZID=Europe/Berlin:20260907T163000
DTSTAMP:20260424T123707
CREATED:20251223T092142Z
LAST-MODIFIED:20251223T092142Z
UID:10077704-1788777000-1788798600@www.hessischeskegelspiel.de
SUMMARY:Sargenzeller Früchteteppich
DESCRIPTION:
URL:https://www.hessischeskegelspiel.de/veranstaltung/sargenzeller-fruechteteppich-3/2026-09-07/
LOCATION:Hünfeld-Sargenzell\, Alte Kirche\, Salugoweg\, Hünfeld-Sargenzell\, Hessen\, 36088\, Deutschland
ATTACH;FMTTYPE=image/jpeg:https://www.hessischeskegelspiel.de/wp-content/uploads/2025/12/IMG_1790-scaled.jpg
END:VEVENT
BEGIN:VEVENT
DTSTART;TZID=Europe/Berlin:20260908T103000
DTEND;TZID=Europe/Berlin:20260908T163000
DTSTAMP:20260424T123707
CREATED:20251223T092315Z
LAST-MODIFIED:20251223T092315Z
UID:10077714-1788863400-1788885000@www.hessischeskegelspiel.de
SUMMARY:Sargenzeller Früchgteteppich
DESCRIPTION:
URL:https://www.hessischeskegelspiel.de/veranstaltung/sargenzeller-fruechgteteppich/2026-09-08/
LOCATION:Hünfeld-Sargenzell\, Alte Kirche\, Salugoweg\, Hünfeld-Sargenzell\, Hessen\, 36088\, Deutschland
ATTACH;FMTTYPE=image/jpeg:https://www.hessischeskegelspiel.de/wp-content/uploads/2025/12/IMG_1790-scaled.jpg
END:VEVENT
BEGIN:VEVENT
DTSTART;TZID=Europe/Berlin:20260909T103000
DTEND;TZID=Europe/Berlin:20260909T163000
DTSTAMP:20260424T123707
CREATED:20251223T092628Z
LAST-MODIFIED:20251223T092641Z
UID:10077723-1788949800-1788971400@www.hessischeskegelspiel.de
SUMMARY:Sargenzeller Früchteteppich
DESCRIPTION:
URL:https://www.hessischeskegelspiel.de/veranstaltung/sargenzeller-fruechteteppich-4/2026-09-09/
LOCATION:Hünfeld-Sargenzell\, Alte Kirche\, Salugoweg\, Hünfeld-Sargenzell\, Hessen\, 36088\, Deutschland
ATTACH;FMTTYPE=image/jpeg:https://www.hessischeskegelspiel.de/wp-content/uploads/2025/12/IMG_1790-scaled.jpg
END:VEVENT
BEGIN:VEVENT
DTSTART;TZID=Europe/Berlin:20260910T103000
DTEND;TZID=Europe/Berlin:20260910T163000
DTSTAMP:20260424T123707
CREATED:20251223T093433Z
LAST-MODIFIED:20251223T093433Z
UID:10077732-1789036200-1789057800@www.hessischeskegelspiel.de
SUMMARY:Sargenzeller Früchteteppich
DESCRIPTION:
URL:https://www.hessischeskegelspiel.de/veranstaltung/sargenzeller-fruechteteppich-5/2026-09-10/
LOCATION:Hünfeld-Sargenzell\, Alte Kirche\, Salugoweg\, Hünfeld-Sargenzell\, Hessen\, 36088\, Deutschland
ATTACH;FMTTYPE=image/jpeg:https://www.hessischeskegelspiel.de/wp-content/uploads/2025/12/IMG_1790-scaled.jpg
END:VEVENT
BEGIN:VEVENT
DTSTART;TZID=Europe/Berlin:20260911T103000
DTEND;TZID=Europe/Berlin:20260911T163000
DTSTAMP:20260424T123707
CREATED:20251223T093551Z
LAST-MODIFIED:20251223T093551Z
UID:10077741-1789122600-1789144200@www.hessischeskegelspiel.de
SUMMARY:Sargenzeller Früchteteppich
DESCRIPTION:
URL:https://www.hessischeskegelspiel.de/veranstaltung/sargenzeller-fruechteteppich-6/2026-09-11/
LOCATION:Hünfeld-Sargenzell\, Alte Kirche\, Salugoweg\, Hünfeld-Sargenzell\, Hessen\, 36088\, Deutschland
ATTACH;FMTTYPE=image/jpeg:https://www.hessischeskegelspiel.de/wp-content/uploads/2025/12/IMG_1790-scaled.jpg
END:VEVENT
END:VCALENDAR