BEGIN:VCALENDAR
VERSION:2.0
PRODID:-//Ferienregion Hessisches Kegelspiel - ECPv6.15.20//NONSGML v1.0//EN
CALSCALE:GREGORIAN
METHOD:PUBLISH
X-ORIGINAL-URL:https://www.hessischeskegelspiel.de
X-WR-CALDESC:Veranstaltungen für Ferienregion Hessisches Kegelspiel
REFRESH-INTERVAL;VALUE=DURATION:PT1H
X-Robots-Tag:noindex
X-PUBLISHED-TTL:PT1H
BEGIN:VTIMEZONE
TZID:Europe/Berlin
BEGIN:DAYLIGHT
TZOFFSETFROM:+0100
TZOFFSETTO:+0200
TZNAME:CEST
DTSTART:20250330T010000
END:DAYLIGHT
BEGIN:STANDARD
TZOFFSETFROM:+0200
TZOFFSETTO:+0100
TZNAME:CET
DTSTART:20251026T010000
END:STANDARD
BEGIN:DAYLIGHT
TZOFFSETFROM:+0100
TZOFFSETTO:+0200
TZNAME:CEST
DTSTART:20260329T010000
END:DAYLIGHT
BEGIN:STANDARD
TZOFFSETFROM:+0200
TZOFFSETTO:+0100
TZNAME:CET
DTSTART:20261025T010000
END:STANDARD
BEGIN:DAYLIGHT
TZOFFSETFROM:+0100
TZOFFSETTO:+0200
TZNAME:CEST
DTSTART:20270328T010000
END:DAYLIGHT
BEGIN:STANDARD
TZOFFSETFROM:+0200
TZOFFSETTO:+0100
TZNAME:CET
DTSTART:20271031T010000
END:STANDARD
END:VTIMEZONE
BEGIN:VEVENT
DTSTART;TZID=Europe/Berlin:20260504T140000
DTEND;TZID=Europe/Berlin:20260504T160000
DTSTAMP:20260420T100626
CREATED:20260113T115805Z
LAST-MODIFIED:20260114T102809Z
UID:10077793-1777903200-1777910400@www.hessischeskegelspiel.de
SUMMARY:Volksliedersingen in Nüsttal-Silges
DESCRIPTION:Herzliche Einladung zum Mitsingen! \nWir singen altbekannte Volkslieder und Evergreens. Ein Kulturgut\, das Herz und Seele erfreut und das wir erhalten wollen. \nMit großem Engagement begleiten uns Musiker mit ihren Instrumenten. \nKommen Sie ohne Anmeldung einfach dazu. \nAnsprechpartnerin: Roswitha Trott\, Tel. 06684 1312 \n 
URL:https://www.hessischeskegelspiel.de/veranstaltung/volksliedersingen-in-nuesttal-silges/2026-05-04/
LOCATION:Nüsttal-Silges\, DGH\, Helmusgraben 6\, Nüsttal-Silges\, Hessen\, 36167\, Deutschland
ATTACH;FMTTYPE=image/jpeg:https://www.hessischeskegelspiel.de/wp-content/uploads/2026/01/Logo_mitBildDGHSilges_VLS_2.jpg
END:VEVENT
END:VCALENDAR